BEGIN:VCALENDAR
PRODID:-//Det Danske Spejderkorps//NONSGML Gruppeweb//EN
VERSION:2.0
CALSCALE:GREGORIAN
X-PUBLISHED-TTL:PT1H
X-WR-CALNAME:Hardeknud Gruppe
METHOD:PUBLISH
BEGIN:VEVENT
UID:gruppeweb.dk:6719:event:660
DTSTAMP:20260420T030029Z
LAST-MODIFIED:20260214T120031Z
SUMMARY:Sommerlejr på Spejderklinten
DESCRIPTION:Sommerlejr starter for alle lørdag den 2/8-2025. Vi mødes på
   \nspejderklinten kl 10 og giver os til at bygge lejr.\n\nVi foreslår at
  familiespejderne kommer søndag den 3/8\, hvis I gerne vil  \novernatte s
 å kom lørdag.\n\nMikro og mini skal hentes mandag den 4/8 kl 17 hvor de 
 naturligvis har lavet  \naftensmad til hele familien.\n\nJunior\, trop og 
 senior fortsætter derefter lejren.\n\nJunior og trop hentes onsdag kl 17 
 hvor de naturligvis har lavet aftensmad  \ntil hele familien. \n\nSenior 
 og leder fortsætter derefter lejren. Lejren lukker senest lørdag den  \n
 9 kl 11.\n\nAlle sover i telt.  \n\nPrisen er 200 pr overnatning\n\n
URL:https://hardeknud.dk/begivenhed/sommerlejr-paa-spejderklinten
DTSTART:20250802T080000Z
DTEND:20250809T091100Z
LOCATION:Hardeknud Gruppe\, Vissevej 3C\, 9210 Aalborg SØ
END:VEVENT
BEGIN:VEVENT
UID:gruppeweb.dk:6719:event:669
DTSTAMP:20260420T030029Z
LAST-MODIFIED:20260214T120017Z
SUMMARY:Tropsmøde
DESCRIPTION:\n
URL:https://hardeknud.dk/begivenhed/tropsmoede-103
DTSTART:20250916T170000Z
DTEND:20250916T190000Z
LOCATION:Hardeknud Gruppe\, Vissevej 3C\, 9210 Aalborg SØ
END:VEVENT
BEGIN:VEVENT
UID:gruppeweb.dk:6719:event:668
DTSTAMP:20260420T030029Z
LAST-MODIFIED:20260214T120014Z
SUMMARY:Tropsmøde "Alene i Vildmarken"
DESCRIPTION:\n
URL:https://hardeknud.dk/begivenhed/tropsmoede-alene-i-vildmarken-0
DTSTART:20250923T170000Z
DTEND:20250923T190000Z
LOCATION:Hardeknud Gruppe\, Vissevej 3C\, 9210 Aalborg SØ
END:VEVENT
BEGIN:VEVENT
UID:gruppeweb.dk:6719:event:662
DTSTAMP:20260420T030029Z
LAST-MODIFIED:20260214T120028Z
SUMMARY:Familiespejd Søndagsmøde
DESCRIPTION:\n
URL:https://hardeknud.dk/begivenhed/familiespejd-soendagsmoede
DTSTART:20250928T080000Z
DTEND:20250928T100000Z
LOCATION:Hardeknud Gruppe\, Vissevej 3C\, 9210 Aalborg SØ
END:VEVENT
BEGIN:VEVENT
UID:gruppeweb.dk:6719:event:670
DTSTAMP:20260420T030029Z
LAST-MODIFIED:20260214T120013Z
SUMMARY:Tropsmøde "Alene i Vildmarken"
DESCRIPTION:\n
URL:https://hardeknud.dk/begivenhed/tropsmoede-alene-i-vildmarken-1
DTSTART:20250930T170000Z
DTEND:20250930T190000Z
LOCATION:Hardeknud Gruppe\, Vissevej 3C\, 9210 Aalborg SØ
END:VEVENT
BEGIN:VEVENT
UID:gruppeweb.dk:6719:event:671
DTSTAMP:20260420T030029Z
LAST-MODIFIED:20260214T120010Z
SUMMARY:Tropsmøde "Alene i Vildmarken"
DESCRIPTION:\n
URL:https://hardeknud.dk/begivenhed/tropsmoede-alene-i-vildmarken-2
DTSTART:20251007T170000Z
DTEND:20251007T190000Z
LOCATION:Hardeknud Gruppe\, Vissevej 3C\, 9210 Aalborg SØ
END:VEVENT
BEGIN:VEVENT
UID:gruppeweb.dk:6719:event:667
DTSTAMP:20260420T030029Z
LAST-MODIFIED:20260214T120007Z
SUMMARY:Tropsmøde "Alene i Vildmarken"
DESCRIPTION:\n
URL:https://hardeknud.dk/begivenhed/tropsmoede-alene-i-vildmarken
DTSTART:20251021T170000Z
DTEND:20251021T190000Z
LOCATION:Hardeknud Gruppe\, Vissevej 3C\, 9210 Aalborg SØ
END:VEVENT
BEGIN:VEVENT
UID:gruppeweb.dk:6719:event:675
DTSTAMP:20260420T030029Z
LAST-MODIFIED:20260214T120003Z
SUMMARY:"På egen hånd" Juniortur til Wasahytten
DESCRIPTION:Beskrivelse\n\nVi skal afsted på tur til afslutning af vores m
 ærke ”på egen  \nhånd”.Spejderne kommer selv til Wasa hytten. De er
  sat sammen i små  \ngrupper og skal selv planlægge hvordan de kommer ti
 l hytten og hvad de skal  \nspise til aftensmad. Nogle har valgt at cykle 
 og andre tager med bus/tog.  \nNogle tager sandwich med og andre har plane
 r om at lave pizza i  \nhytten.Programmet starter kl. 19:30 og der skal al
 le have spist  \naftensmad. Pakkeliste er til en normal hyttetur. Husk la
 gen\, sovepose\,  \nindesko og varmt tøj til at være ude.Turen slutter s
 øndag kl. 10:30\, det  \nkan blive senere da juniorene selv står for at 
 planlægge rengøring. Så  \nsend en besked til os hvis I SKAL afsted fra
  hytten kl. 10:30.AFBUD skal  \nskrives i facebook gruppen\, så vi ved at
  alle har tage en beslutning om de  \ndeltager eller ej.\n
URL:https://hardeknud.dk/begivenhed/paa-egen-haand-juniortur-til-wasahytten
DTSTART:20251024T150000Z
DTEND:20251026T093000Z
LOCATION:Hardeknud Gruppe\, Vissevej 3C\, 9210 Aalborg SØ
END:VEVENT
BEGIN:VEVENT
UID:gruppeweb.dk:6719:event:681
DTSTAMP:20260420T030029Z
LAST-MODIFIED:20251001T132315Z
SUMMARY:Alene i Vildmarken Tropstur
DESCRIPTION:Så er det tid for en kort men super hyggelig tur ud til Wasa W
 asa hytten\,  \nhvor vi skal i 24 timer skal opholde os udenfor\, lave biv
 uak og lækker mad  \nover bålet:)\n\nProgrammet er\, at vi skal have opf
 ørt en lækker og lun bivuak og tændt et  \nkæmpe bål\, så vi uanset 
 vejret kan holde os tørre og lave masse  \nforskelligt over bålet til he
 nholdsvis eftermiddagssnack\, aftensmad og  \nbrunch søndag.\n\nTuren er 
 også et led i at tage mærket "Alene i Vildmarken"\, og juniorerne  \ner 
 i øvrigt derude samtidig (de er i hytten\, hvor vi så kun henter vand og
   \nkan bruge toiletterne).\n\nHusk at medbringe: Tøj til ophold udenfor 
 (herunder vind- og vandtæt  \novertøj efter vejrmeldingen)\, sovepose (s
 å varm som muligt\, gerne med  \nekstra fleecetæpper eller inderpose sam
 t skiundetøj og sokker at sove i)\,  \nliggeunderlag\, spisegrej (tallerk
 en/kar\, bestik\, krus\, drikkedunk\,  \nviskestykke)\,  dolk\, pandelamp
 e med rigeligt batteri - og gerne lidt snoller  \ntil at nyde ved bålet.\
 n\nVi håber at I har lyst til at være med - og spørg os endelig\, hvis 
 der er  \nnoget du er i tvivl om:)\n\nSpejderhilsen fra Jacob\, Nicolai\, 
 Philip\, Viktoria og Ole \n\n
URL:https://hardeknud.dk/begivenhed/alene-i-vildmarken-tropstur
DTSTART:20251025T110000Z
DTEND:20251026T120000Z
LOCATION:Hardeknud Gruppe\, Vissevej 3C\, 9210 Aalborg SØ
END:VEVENT
BEGIN:VEVENT
UID:gruppeweb.dk:6719:event:664
DTSTAMP:20260420T030029Z
LAST-MODIFIED:20260214T120027Z
SUMMARY:Familiespejder Oktober
DESCRIPTION:\n
URL:https://hardeknud.dk/begivenhed/familiespejder-oktober
DTSTART:20251026T090000Z
DTEND:20251026T110000Z
LOCATION:Hardeknud Gruppe\, Vissevej 3C\, 9210 Aalborg SØ
END:VEVENT
BEGIN:VEVENT
UID:gruppeweb.dk:6719:event:674
DTSTAMP:20260420T030029Z
LAST-MODIFIED:20260214T120000Z
SUMMARY:Tropsmøde "Spejdermad"
DESCRIPTION:\n
URL:https://hardeknud.dk/begivenhed/tropsmoede-spejdermad-0
DTSTART:20251104T180000Z
DTEND:20251104T200000Z
LOCATION:Hardeknud Gruppe\, Vissevej 3C\, 9210 Aalborg SØ
END:VEVENT
BEGIN:VEVENT
UID:gruppeweb.dk:6719:event:665
DTSTAMP:20260420T030029Z
LAST-MODIFIED:20260214T120024Z
SUMMARY:Familiespejder November
DESCRIPTION:\n
URL:https://hardeknud.dk/begivenhed/familiespejder-november
DTSTART:20251109T090000Z
DTEND:20251109T110000Z
LOCATION:Hardeknud Gruppe\, Vissevej 3C\, 9210 Aalborg SØ
END:VEVENT
BEGIN:VEVENT
UID:gruppeweb.dk:6719:event:676
DTSTAMP:20260420T030029Z
LAST-MODIFIED:20260214T115953Z
SUMMARY:Tropsmøde "Spejdermad"
DESCRIPTION:\n
URL:https://hardeknud.dk/begivenhed/tropsmoede-spejdermad-1
DTSTART:20251111T180000Z
DTEND:20251111T200000Z
LOCATION:Hardeknud Gruppe\, Vissevej 3C\, 9210 Aalborg SØ
END:VEVENT
BEGIN:VEVENT
UID:gruppeweb.dk:6719:event:677
DTSTAMP:20260420T030029Z
LAST-MODIFIED:20260214T115958Z
SUMMARY:Tropsmøde "Spejdermad"
DESCRIPTION:\n
URL:https://hardeknud.dk/begivenhed/tropsmoede-spejdermad-2
DTSTART:20251118T180000Z
DTEND:20251118T200000Z
LOCATION:Hardeknud Gruppe\, Vissevej 3C\, 9210 Aalborg SØ
END:VEVENT
BEGIN:VEVENT
UID:gruppeweb.dk:6719:event:666
DTSTAMP:20260420T030029Z
LAST-MODIFIED:20260214T120021Z
SUMMARY:Familiespejder November
DESCRIPTION:\n
URL:https://hardeknud.dk/begivenhed/familiespejder-november-0
DTSTART:20251123T090000Z
DTEND:20251123T110000Z
LOCATION:Hardeknud Gruppe\, Vissevej 3C\, 9210 Aalborg SØ
END:VEVENT
BEGIN:VEVENT
UID:gruppeweb.dk:6719:event:673
DTSTAMP:20260420T030029Z
LAST-MODIFIED:20260214T115956Z
SUMMARY:Tropsmøde "Spejdermad"
DESCRIPTION:\n
URL:https://hardeknud.dk/begivenhed/tropsmoede-spejdermad
DTSTART:20251125T180000Z
DTEND:20251125T200000Z
LOCATION:Hardeknud Gruppe\, Vissevej 3C\, 9210 Aalborg SØ
END:VEVENT
BEGIN:VEVENT
UID:gruppeweb.dk:6719:event:672
DTSTAMP:20260420T030029Z
LAST-MODIFIED:20260214T115952Z
SUMMARY:Troppen i julen
DESCRIPTION:\n
URL:https://hardeknud.dk/begivenhed/troppen-i-julen
DTSTART:20251202T180000Z
DTEND:20251202T200000Z
LOCATION:Hardeknud Gruppe\, Vissevej 3C\, 9210 Aalborg SØ
END:VEVENT
BEGIN:VEVENT
UID:gruppeweb.dk:6719:event:680
DTSTAMP:20260420T030029Z
LAST-MODIFIED:20260214T115949Z
SUMMARY:Gruppens juletur for alle
DESCRIPTION:\n
URL:https://hardeknud.dk/begivenhed/gruppens-juletur-alle
DTSTART:20251205T180000Z
DTEND:20251207T100000Z
LOCATION:Hardeknud Gruppe\, Vissevej 3C\, 9210 Aalborg SØ
END:VEVENT
BEGIN:VEVENT
UID:gruppeweb.dk:6719:event:682
DTSTAMP:20260420T030029Z
LAST-MODIFIED:20251129T194324Z
SUMMARY:Gruppens juletur for alle
DESCRIPTION:\n
URL:https://hardeknud.dk/begivenhed/gruppens-juletur-alle-0
DTSTART:20251205T180000Z
DTEND:20251207T100000Z
LOCATION:Hardeknud Gruppe\, Vissevej 3C\, 9210 Aalborg SØ
END:VEVENT
BEGIN:VEVENT
UID:gruppeweb.dk:6719:event:663
DTSTAMP:20260420T030029Z
LAST-MODIFIED:20260214T120020Z
SUMMARY:Familiespejders juletur
DESCRIPTION:\n
URL:https://hardeknud.dk/begivenhed/familiespejders-juletur
DTSTART:20251205T230000Z
DTEND:20251207T110000Z
LOCATION:Hardeknud Gruppe\, Vissevej 3C\, 9210 Aalborg SØ
END:VEVENT
BEGIN:VEVENT
UID:gruppeweb.dk:6719:event:679
DTSTAMP:20260420T030029Z
LAST-MODIFIED:20260214T115946Z
SUMMARY:Troppens juleafslutning - Skøjtebanen
DESCRIPTION:\n
URL:https://hardeknud.dk/begivenhed/troppens-juleafslutning-skoejtebanen
DTSTART:20251216T170000Z
DTEND:20251216T200000Z
LOCATION:Hardeknud Gruppe\, Vissevej 3C\, 9210 Aalborg SØ
END:VEVENT
BEGIN:VEVENT
UID:gruppeweb.dk:6719:event:687
DTSTAMP:20260420T030029Z
LAST-MODIFIED:20260111T122320Z
SUMMARY:Småspejdermøde
DESCRIPTION:
URL:https://hardeknud.dk/begivenhed/smaaspejdermoede-81
DTSTART;VALUE=DATE:20260106
LOCATION:
END:VEVENT
BEGIN:VEVENT
UID:gruppeweb.dk:6719:event:684
DTSTAMP:20260420T030029Z
LAST-MODIFIED:20260111T122317Z
SUMMARY:Småspejdermøde
DESCRIPTION:
URL:https://hardeknud.dk/begivenhed/smaaspejdermoede-79
DTSTART;VALUE=DATE:20260113
LOCATION:
END:VEVENT
BEGIN:VEVENT
UID:gruppeweb.dk:6719:event:685
DTSTAMP:20260420T030029Z
LAST-MODIFIED:20260111T122318Z
SUMMARY:Småspejdermøde
DESCRIPTION:
URL:https://hardeknud.dk/begivenhed/smaaspejdermoede-80
DTSTART;VALUE=DATE:20260120
LOCATION:
END:VEVENT
BEGIN:VEVENT
UID:gruppeweb.dk:6719:event:686
DTSTAMP:20260420T030029Z
LAST-MODIFIED:20260111T122319Z
SUMMARY:Småspekdermøde
DESCRIPTION:
URL:https://hardeknud.dk/begivenhed/smaaspekdermoede-0
DTSTART;VALUE=DATE:20260127
LOCATION:
END:VEVENT
BEGIN:VEVENT
UID:gruppeweb.dk:6719:event:688
DTSTAMP:20260420T030029Z
LAST-MODIFIED:20260111T122320Z
SUMMARY:Småspejdermøde
DESCRIPTION:
URL:https://hardeknud.dk/begivenhed/smaaspejdermoede-82
DTSTART;VALUE=DATE:20260203
LOCATION:
END:VEVENT
BEGIN:VEVENT
UID:gruppeweb.dk:6719:event:689
DTSTAMP:20260420T030029Z
LAST-MODIFIED:20260111T122320Z
SUMMARY:Småspejdermøde
DESCRIPTION:
URL:https://hardeknud.dk/begivenhed/smaaspejdermoede-83
DTSTART;VALUE=DATE:20260210
LOCATION:
END:VEVENT
BEGIN:VEVENT
UID:gruppeweb.dk:6719:event:690
DTSTAMP:20260420T030029Z
LAST-MODIFIED:20260111T122321Z
SUMMARY:Vinterferie
DESCRIPTION:\n
URL:https://hardeknud.dk/begivenhed/vinterferie-0
DTSTART;VALUE=DATE:20260217
LOCATION:
END:VEVENT
BEGIN:VEVENT
UID:gruppeweb.dk:6719:event:683
DTSTAMP:20260420T030029Z
LAST-MODIFIED:20260111T122315Z
SUMMARY:Småspejdermøde
DESCRIPTION:\n
URL:https://hardeknud.dk/begivenhed/smaaspejdermoede-78
DTSTART;VALUE=DATE:20260224
LOCATION:
END:VEVENT
BEGIN:VEVENT
UID:gruppeweb.dk:6719:event:697
DTSTAMP:20260420T030029Z
LAST-MODIFIED:20260111T123407Z
SUMMARY:Småspejdermøde
DESCRIPTION:
URL:https://hardeknud.dk/begivenhed/smaaspejdermoede-89
DTSTART;VALUE=DATE:20260303
LOCATION:
END:VEVENT
BEGIN:VEVENT
UID:gruppeweb.dk:6719:event:693
DTSTAMP:20260420T030029Z
LAST-MODIFIED:20260111T123401Z
SUMMARY:Småspejdermøde
DESCRIPTION:
URL:https://hardeknud.dk/begivenhed/smaaspejdermoede-86
DTSTART;VALUE=DATE:20260310
LOCATION:
END:VEVENT
BEGIN:VEVENT
UID:gruppeweb.dk:6719:event:696
DTSTAMP:20260420T030029Z
LAST-MODIFIED:20260111T123406Z
SUMMARY:Småspejdermøde
DESCRIPTION:
URL:https://hardeknud.dk/begivenhed/smaaspejdermoede-88
DTSTART;VALUE=DATE:20260317
LOCATION:
END:VEVENT
BEGIN:VEVENT
UID:gruppeweb.dk:6719:event:692
DTSTAMP:20260420T030029Z
LAST-MODIFIED:20260111T123400Z
SUMMARY:Småspejdermøde
DESCRIPTION:
URL:https://hardeknud.dk/begivenhed/smaaspejdermoede-85
DTSTART;VALUE=DATE:20260324
LOCATION:
END:VEVENT
BEGIN:VEVENT
UID:gruppeweb.dk:6719:event:694
DTSTAMP:20260420T030029Z
LAST-MODIFIED:20260111T123404Z
SUMMARY:Ferie
DESCRIPTION:\n
URL:https://hardeknud.dk/begivenhed/ferie-0
DTSTART;VALUE=DATE:20260331
LOCATION:
END:VEVENT
BEGIN:VEVENT
UID:gruppeweb.dk:6719:event:695
DTSTAMP:20260420T030029Z
LAST-MODIFIED:20260111T123405Z
SUMMARY:Småspejdermøde
DESCRIPTION:\n
URL:https://hardeknud.dk/begivenhed/smaaspejdermoede-87
DTSTART;VALUE=DATE:20260407
LOCATION:
END:VEVENT
BEGIN:VEVENT
UID:gruppeweb.dk:6719:event:691
DTSTAMP:20260420T030029Z
LAST-MODIFIED:20260111T123357Z
SUMMARY:Småspejdermøde
DESCRIPTION:\n
URL:https://hardeknud.dk/begivenhed/smaaspejdermoede-84
DTSTART;VALUE=DATE:20260414
LOCATION:
END:VEVENT
BEGIN:VEVENT
UID:gruppeweb.dk:6719:event:700
DTSTAMP:20260420T030029Z
LAST-MODIFIED:20260416T185246Z
SUMMARY:Småspejder
DESCRIPTION:
URL:https://hardeknud.dk/begivenhed/smaaspejder-5
DTSTART;VALUE=DATE:20260421
LOCATION:
END:VEVENT
BEGIN:VEVENT
UID:gruppeweb.dk:6719:event:710
DTSTAMP:20260420T030029Z
LAST-MODIFIED:20260416T190627Z
SUMMARY:Familiespejder fisketur til Poulstrup sø
DESCRIPTION:
URL:https://hardeknud.dk/begivenhed/familiespejder-fisketur-til-poulstrup-s
 oe
DTSTART;VALUE=DATE:20260426
LOCATION:
END:VEVENT
BEGIN:VEVENT
UID:gruppeweb.dk:6719:event:704
DTSTAMP:20260420T030029Z
LAST-MODIFIED:20260416T185250Z
SUMMARY:Småspejder
DESCRIPTION:
URL:https://hardeknud.dk/begivenhed/smaaspejder-9
DTSTART;VALUE=DATE:20260428
LOCATION:
END:VEVENT
BEGIN:VEVENT
UID:gruppeweb.dk:6719:event:701
DTSTAMP:20260420T030029Z
LAST-MODIFIED:20260416T185249Z
SUMMARY:Småspejder
DESCRIPTION:
URL:https://hardeknud.dk/begivenhed/smaaspejder-6
DTSTART;VALUE=DATE:20260505
LOCATION:
END:VEVENT
BEGIN:VEVENT
UID:gruppeweb.dk:6719:event:706
DTSTAMP:20260420T030029Z
LAST-MODIFIED:20260416T185251Z
SUMMARY:Sommerlejr småspejder
DESCRIPTION:
URL:https://hardeknud.dk/begivenhed/sommerlejr-smaaspejder
DTSTART;VALUE=DATE:20260510
LOCATION:
END:VEVENT
BEGIN:VEVENT
UID:gruppeweb.dk:6719:event:709
DTSTAMP:20260420T030029Z
LAST-MODIFIED:20260416T190627Z
SUMMARY:Familiespejder i Wasa hytten
DESCRIPTION:
URL:https://hardeknud.dk/begivenhed/familiespejder-i-wasa-hytten
DTSTART;VALUE=DATE:20260510
LOCATION:
END:VEVENT
BEGIN:VEVENT
UID:gruppeweb.dk:6719:event:702
DTSTAMP:20260420T030029Z
LAST-MODIFIED:20260416T185249Z
SUMMARY:Småspejder
DESCRIPTION:
URL:https://hardeknud.dk/begivenhed/smaaspejder-7
DTSTART;VALUE=DATE:20260519
LOCATION:
END:VEVENT
BEGIN:VEVENT
UID:gruppeweb.dk:6719:event:703
DTSTAMP:20260420T030029Z
LAST-MODIFIED:20260416T185250Z
SUMMARY:Småspejder
DESCRIPTION:
URL:https://hardeknud.dk/begivenhed/smaaspejder-8
DTSTART;VALUE=DATE:20260526
LOCATION:
END:VEVENT
BEGIN:VEVENT
UID:gruppeweb.dk:6719:event:708
DTSTAMP:20260420T030029Z
LAST-MODIFIED:20260416T190624Z
SUMMARY:Familiespejder
DESCRIPTION:
URL:https://hardeknud.dk/begivenhed/familiespejder-1
DTSTART;VALUE=DATE:20260531
LOCATION:
END:VEVENT
BEGIN:VEVENT
UID:gruppeweb.dk:6719:event:705
DTSTAMP:20260420T030029Z
LAST-MODIFIED:20260416T185251Z
SUMMARY:Småspejder
DESCRIPTION:
URL:https://hardeknud.dk/begivenhed/smaaspejder-10
DTSTART;VALUE=DATE:20260602
LOCATION:
END:VEVENT
BEGIN:VEVENT
UID:gruppeweb.dk:6719:event:497
DTSTAMP:20260420T030029Z
LAST-MODIFIED:20260416T051245Z
SUMMARY:Divisionsturnering junior og trop
DESCRIPTION:Divisionsturnering på Øksedal spejdercenter. Der er udleveret
  seddel.\n\n
URL:https://hardeknud.dk/begivenhed/divisionsturnering-junior-og-trop
DTSTART:20260605T143000Z
DTEND:20260607T100000Z
LOCATION:Hardeknud Gruppe\, Vissevej 3C\, 9210 Aalborg SØ
END:VEVENT
BEGIN:VEVENT
UID:gruppeweb.dk:6719:event:659
DTSTAMP:20260420T030029Z
LAST-MODIFIED:20260214T120033Z
SUMMARY:divisionsturnering 2025 familiespejder
DESCRIPTION:\n
URL:https://hardeknud.dk/begivenhed/divisionsturnering-2025-familiespejder
DTSTART:20260605T150000Z
DTEND:20260607T160000Z
LOCATION:Hardeknud Gruppe\, Vissevej 3C\, 9210 Aalborg SØ
END:VEVENT
BEGIN:VEVENT
UID:gruppeweb.dk:6719:event:707
DTSTAMP:20260420T030029Z
LAST-MODIFIED:20260416T185252Z
SUMMARY:Sommerafslutning småspejder
DESCRIPTION:
URL:https://hardeknud.dk/begivenhed/sommerafslutning-smaaspejder-0
DTSTART;VALUE=DATE:20260616
LOCATION:
END:VEVENT
BEGIN:VEVENT
UID:gruppeweb.dk:6719:event:711
DTSTAMP:20260420T030029Z
LAST-MODIFIED:20260416T192006Z
SUMMARY:Familiespejder sommerafslutning
DESCRIPTION:
URL:https://hardeknud.dk/begivenhed/familiespejder-sommerafslutning-0
DTSTART;VALUE=DATE:20260621
LOCATION:
END:VEVENT
BEGIN:VEVENT
UID:gruppeweb.dk:6719:event:698
DTSTAMP:20260420T030029Z
LAST-MODIFIED:20260218T092044Z
SUMMARY:Spejdernes Lejr 26 - Junior
DESCRIPTION:Nu kan du tilmelde dig Året største spejderbegivenhed: Spejd
 ernes Lejr på  \nvores hjjemmeside i Kalenderen.\n\nHvis du har spørgsm
 ål kan du kontakte juniorleder Linda Galberg (25742800)  \neller Gruppele
 der Susanne Dreisler (40333121)\n\nTilmelding skal ske senest den 26/2 \n
 \nMht. betaling er der 1000 kr i depositum og resten (1000 kr) bliver opkr
 ævet  \ni juni (I lunibetalinen reducere vi det optjente tilskud fra Tall
  Ship race  \nopgave) \n\nMed spejderhilsen Lederne\n\n
URL:https://hardeknud.dk/begivenhed/spejdernes-lejr-26-junior
DTSTART:20260718T060000Z
DTEND:20260723T180000Z
LOCATION:Hardeknud Gruppe\, Vissevej 3C\, 9210 Aalborg SØ
END:VEVENT
BEGIN:VEVENT
UID:gruppeweb.dk:6719:event:699
DTSTAMP:20260420T030029Z
LAST-MODIFIED:20260226T234757Z
SUMMARY:Spejdernes Lejr 26 - TROP
DESCRIPTION: \n\nNu kan du tilmelde dig Året største spejderbegivenhed:
  Spejdernes Lejr på  \nvores hjemmeside i Kalenderen.\n\nHvis du har sp
 ørgsmål kan du kontakte Gruppeleder Susanne Dreisler  \n(40333121) eller
  tropsleder Ole Høyer (efter kl. 16: 28569255) \n\nTilmelding skal ske s
 enest den 26/2 \n\nMht. betaling er der 1000 kr i depositum og resten (14
 00 kr) bliver opkrævet  \ni juni (I junibetalingen reducerer vi det optje
 nte tilskud fra Tall Ship race  \nopgaverne) \n\nMed spejderhilsen Ledern
 e\n\n
URL:https://hardeknud.dk/begivenhed/spejdernes-lejr-26-trop
DTSTART:20260718T060000Z
DTEND:20260726T160000Z
LOCATION:Hardeknud Gruppe\, Vissevej 3C\, 9210 Aalborg SØ
END:VEVENT
END:VCALENDAR
